BEGIN:VCALENDAR
VERSION:2.0
PRODID:-//Plone.org//NONSGML plone.app.event//EN
X-WR-TIMEZONE:Europe/Vienna
BEGIN:VEVENT
SUMMARY:Grosses Bott (mit Apéro riche)
DTSTART;TZID=Europe/Vienna;VALUE=DATE-TIME:20260425T110000
DTSTAMP;VALUE=DATE-TIME:20260425T134901Z
UID:3bc6d34a3ba3408ea4c9de19fe3ed37d@127.0.0.1:10550
CREATED;VALUE=DATE-TIME:20251025T095737Z
DESCRIPTION:Eingeladen sind alle Gesellschaftsangehörige sowie auch alle 
 Ehe-/PartnerInnen\, die nicht Angehörige unserer Gesellschaft sind
LAST-MODIFIED;VALUE=DATE-TIME:20260328T163625Z
LOCATION:Erlacherhof\, Festsaal
URL:https://www.distelzwang.ch/anlaesse/grosses-bott-mit-apero-riche
END:VEVENT
BEGIN:VTIMEZONE
TZID:Europe/Vienna
X-LIC-LOCATION:Europe/Vienna
BEGIN:DAYLIGHT
DTSTART;VALUE=DATE-TIME:20260329T030000
TZNAME:CEST
TZOFFSETFROM:+0100
TZOFFSETTO:+0200
END:DAYLIGHT
END:VTIMEZONE
END:VCALENDAR
