BEGIN:VCALENDAR
VERSION:2.0
PRODID:-//Plone.org//NONSGML plone.app.event//EN
X-WR-TIMEZONE:Europe/Vienna
BEGIN:VEVENT
SUMMARY:Gesellschaftsausflug zu Space Eye\, Niedermuhlern
DTSTART;TZID=Europe/Vienna;VALUE=DATE-TIME:20260604T184000
DTEND;TZID=Europe/Vienna;VALUE=DATE-TIME:20260604T221500
DTSTAMP;VALUE=DATE-TIME:20260420T101550Z
UID:9b7a832497744944af46f0b87fe4302b@127.0.0.1:10550
CREATED;VALUE=DATE-TIME:20260416T054922Z
DESCRIPTION:Ein Abendausflug zu Space Eye\, Observatorium für Weltraum un
 d Umwelt (siehe Details zu Anreise und Programm im Flyer\; bitte bei Anmel
 dung gewählte Optionen zur Anreise angeben!)
LAST-MODIFIED;VALUE=DATE-TIME:20260416T055714Z
LOCATION:Niedermuhlern
URL:https://www.distelzwang.ch/anlaesse/gesellschaftsausflug-zu-space-eye-
 niedermuhlern
END:VEVENT
BEGIN:VTIMEZONE
TZID:Europe/Vienna
X-LIC-LOCATION:Europe/Vienna
BEGIN:DAYLIGHT
DTSTART;VALUE=DATE-TIME:20260329T030000
TZNAME:CEST
TZOFFSETFROM:+0100
TZOFFSETTO:+0200
END:DAYLIGHT
END:VTIMEZONE
END:VCALENDAR
